BEGIN:VCALENDAR
VERSION:2.0
PRODID:spatie/icalendar-generator
DESCRIPTION:Events from Port Warren | Condominiums On The Columbia Coast
X-WR-CALDESC:Events from Port Warren | Condominiums On The Columbia Coast
REFRESH-INTERVAL;VALUE=DURATION:PT1440M
X-PUBLISHED-TTL:PT1440M
BEGIN:VTIMEZONE
TZID:Etc/GMT+0
BEGIN:STANDARD
DTSTART:20250722T110000Z
TZOFFSETFROM:+0000
TZOFFSETTO:+0000
END:STANDARD
END:VTIMEZONE
BEGIN:VTIMEZONE
TZID:UTC
BEGIN:STANDARD
DTSTART:20250726T115050Z
TZOFFSETFROM:+0000
TZOFFSETTO:+0000
END:STANDARD
END:VTIMEZONE
BEGIN:VEVENT
UID:31-28
DTSTAMP:20260422T115050Z
SUMMARY:HOA Meeting
LOCATION:
ORGANIZER;CN=portwarren:MAILTO:blastbeatpdx@gmail.com
DTSTART;TZID=Etc/GMT+0:20260418T110000
DTEND;TZID=Etc/GMT+0:20260418T120000
X-ALT-DESC;FMTTYPE=TEXT/HTML:Our monthly HOA Meeting. Click here to sign-in
  to the HOA page to access the Zoom link.
CATEGORIES:General
URL;VALUE=URI:https://portwarren.com/mc-events/hoa-meeting-11
METHOD:PUBLISH
END:VEVENT
END:VCALENDAR