BEGIN:VCALENDAR
VERSION:2.0
PRODID:spatie/icalendar-generator
DESCRIPTION:Events from Port Warren | Condominiums On The Columbia Coast
X-WR-CALDESC:Events from Port Warren | Condominiums On The Columbia Coast
REFRESH-INTERVAL;VALUE=DURATION:PT1440M
X-PUBLISHED-TTL:PT1440M
BEGIN:VTIMEZONE
TZID:Etc/GMT+0
BEGIN:STANDARD
DTSTART:20250722T100000Z
TZOFFSETFROM:+0000
TZOFFSETTO:+0000
END:STANDARD
END:VTIMEZONE
BEGIN:VTIMEZONE
TZID:UTC
BEGIN:STANDARD
DTSTART:20250726T113944Z
TZOFFSETFROM:+0000
TZOFFSETTO:+0000
END:STANDARD
END:VTIMEZONE
BEGIN:VEVENT
UID:32-29
DTSTAMP:20260422T113944Z
SUMMARY:MOA Meeting
LOCATION:Zoom Meeting
ORGANIZER;CN=portwarren:MAILTO:blastbeatpdx@gmail.com
DTSTART;TZID=Etc/GMT+0:20260418T100000
DTEND;TZID=Etc/GMT+0:20260418T110000
X-ALT-DESC;FMTTYPE=TEXT/HTML:Our periodic MOA Meeting. Click here to sign-i
 n to the MOA page to access the Zoom link.
CATEGORIES:General
URL;VALUE=URI:https://portwarren.com/mc-events/moa-meeting-4
METHOD:PUBLISH
END:VEVENT
END:VCALENDAR